BEGIN:VCALENDAR
VERSION:2.0
PRODID:-//BudenMusik - ECPv6.15.17.1//NONSGML v1.0//EN
CALSCALE:GREGORIAN
METHOD:PUBLISH
X-WR-CALNAME:BudenMusik
X-ORIGINAL-URL:https://budenmusik.ch/en
X-WR-CALDESC:Events for BudenMusik
REFRESH-INTERVAL;VALUE=DURATION:PT1H
X-Robots-Tag:noindex
X-PUBLISHED-TTL:PT1H
BEGIN:VTIMEZONE
TZID:UTC
BEGIN:STANDARD
TZOFFSETFROM:+0000
TZOFFSETTO:+0000
TZNAME:UTC
DTSTART:20250101T000000
END:STANDARD
END:VTIMEZONE
BEGIN:VEVENT
DTSTART;TZID=UTC:20260328T110000
DTEND;TZID=UTC:20260328T200000
DTSTAMP:20260421T194051
CREATED:20260225T201426Z
LAST-MODIFIED:20260225T201832Z
UID:10000037-1774695600-1774728000@budenmusik.ch
SUMMARY:DAYDANCE @ PIZOL BERGHOTEL GAFFIA
DESCRIPTION:4				\n				\n				\n				\n																														\n				\n				\n				\n					4				\n				\n					\n		\n					\n		\n				\n				\n							\n			\n		\n						\n				\n				\n				\n					Page not found				\n				\n				\n				\n							\n			\n		\n						\n				\n				\n				\n									We’re sorry\, but something went wrong. 								\n				\n				\n				\n							\n			\n		\n						\n				\n				\n				\n					Homepage
URL:https://budenmusik.ch/en/event/daydance-pizol-berghotel-gaffia/
LOCATION:Berghotel Gaffia
CATEGORIES:Buden Events
ATTACH;FMTTYPE=image/png:https://budenmusik.ch/wp-content/uploads/2026/02/DAYDANCE-Pizol-Flyer-28.03.png
END:VEVENT
BEGIN:VEVENT
DTSTART;TZID=UTC:20260314T110000
DTEND;TZID=UTC:20260314T200000
DTSTAMP:20260421T194051
CREATED:20260116T192552Z
LAST-MODIFIED:20260225T202008Z
UID:10000035-1773486000-1773518400@budenmusik.ch
SUMMARY:DAYDANCE @ PIZOL BERGHOTEL GAFFIA
DESCRIPTION:4				\n				\n				\n				\n																														\n				\n				\n				\n					4				\n				\n					\n		\n					\n		\n				\n				\n							\n			\n		\n						\n				\n				\n				\n					Page not found				\n				\n				\n				\n							\n			\n		\n						\n				\n				\n				\n									We’re sorry\, but something went wrong. 								\n				\n				\n				\n							\n			\n		\n						\n				\n				\n				\n					Homepage
URL:https://budenmusik.ch/en/event/buden-musik-open-air/
LOCATION:Berghotel Gaffia
CATEGORIES:Buden Events
ATTACH;FMTTYPE=image/jpeg:https://budenmusik.ch/wp-content/uploads/2026/01/DAYDANCE-Pizol-Flyer.jpeg
END:VEVENT
END:VCALENDAR